BEGIN:VCALENDAR
VERSION:2.0
METHOD:PUBLISH
BEGIN:VEVENT
DTSTART:20250823T120000Z
DTEND:20250823T180000Z
LOCATION:Watertown, MA 02472
TRANSP: OPAQUE
SEQUENCE:0
UID:
DTSTAMP:20260425T171314Z
SUMMARY:Whimsical Watertown Estate collectibles co!ns comics jewelry housewares and more 1 day only
DESCRIPTION:Whimsical Watertown Estate collectibles co!ns comics jewelry housewares and more 1 day only Stress Free Estate Services LLC 
UID:1777158794
STREET-ADDRESS:See website
POSTAL-CODE:02472
LOCALITY:Watertown
REGION:ABBREV=MA
COUNTRY:ABBREV=US;ABBREV=USA:United States
URL;TYPE=Event Listing:https://estatesales.org/estate-sales/ma/watertown/02472/whimsical-watertown-estate-collectibles-cons-2394120
PRIORITY:1
CLASS:PUBLIC
SEQUENCE:0
STATUS:CONFIRMED
TRANSP:OPAQUE
END:VEVENT
END:VCALENDAR
