BEGIN:VCALENDAR
VERSION:2.0
METHOD:PUBLISH
BEGIN:VEVENT
DTSTART:20240823T160000Z
DTEND:20240825T210000Z
LOCATION:Concord, CA 94518
TRANSP: OPAQUE
SEQUENCE:0
UID:
DTSTAMP:20260419T054017Z
SUMMARY:Massive Estate Sale in Concord Ca, by Horizons.
DESCRIPTION:Massive Estate Sale in Concord Ca, by Horizons. Horizons Estate Sales LLC 
UID:1776598817
STREET-ADDRESS:See website
POSTAL-CODE:94518
LOCALITY:Concord
REGION:ABBREV=CA
COUNTRY:ABBREV=US;ABBREV=USA:United States
URL;TYPE=Event Listing:https://estatesales.org/estate-sales/ca/concord/94518/massive-estate-sale-in-concord-2334246
PRIORITY:1
CLASS:PUBLIC
SEQUENCE:0
STATUS:CONFIRMED
TRANSP:OPAQUE
END:VEVENT
END:VCALENDAR
