BEGIN:VCALENDAR
VERSION:2.0
METHOD:PUBLISH
BEGIN:VEVENT
DTSTART:20240823T150000Z
DTEND:20240824T210000Z
LOCATION:Yukon, OK 73099
TRANSP: OPAQUE
SEQUENCE:0
UID:
DTSTAMP:20260425T162711Z
SUMMARY:Calling All Crafters, Collectors & Sale Enthusiasts
DESCRIPTION:Calling All Crafters, Collectors & Sale Enthusiasts Master Key Estate Sales, LLP 
UID:1777156031
STREET-ADDRESS:See website
POSTAL-CODE:73099
LOCALITY:Yukon
REGION:ABBREV=OK
COUNTRY:ABBREV=US;ABBREV=USA:United States
URL;TYPE=Event Listing:https://estatesales.org/estate-sales/ok/yukon/73099/calling-all-crafters-collectors-sale-2332616
PRIORITY:1
CLASS:PUBLIC
SEQUENCE:0
STATUS:CONFIRMED
TRANSP:OPAQUE
END:VEVENT
END:VCALENDAR
