BEGIN:VCALENDAR
VERSION:2.0
METHOD:PUBLISH
BEGIN:VEVENT
DTSTART:20240823T150000Z
DTEND:20240824T200000Z
LOCATION:Rio Rancho, NM 87124
TRANSP: OPAQUE
SEQUENCE:0
UID:
DTSTAMP:20260420T041314Z
SUMMARY:Anxiously awaiting your arrival on Augusta- ESTATE SALE
DESCRIPTION:Anxiously awaiting your arrival on Augusta- ESTATE SALE HR Integrity Estate Sales, LLC 
UID:1776679994
STREET-ADDRESS:See website
POSTAL-CODE:87124
LOCALITY:Rio Rancho
REGION:ABBREV=NM
COUNTRY:ABBREV=US;ABBREV=USA:United States
URL;TYPE=Event Listing:https://estatesales.org/estate-sales/nm/rio-rancho/87124/anxiously-awaiting-your-arrival-on-2335090
PRIORITY:1
CLASS:PUBLIC
SEQUENCE:0
STATUS:CONFIRMED
TRANSP:OPAQUE
END:VEVENT
END:VCALENDAR
