BEGIN:VCALENDAR
VERSION:2.0
METHOD:PUBLISH
BEGIN:VEVENT
DTSTART:20240823T160000Z
DTEND:20240824T210000Z
LOCATION:Seal Beach, CA 90740
TRANSP: OPAQUE
SEQUENCE:0
UID:
DTSTAMP:20260419T190621Z
SUMMARY:50% OFF!! Seal beach, antiques, furniture, jewelry, electronics
DESCRIPTION:50% OFF!! Seal beach, antiques, furniture, jewelry, electronics HRURCollections Estate services /consulting 
UID:1776647181
STREET-ADDRESS:See website
POSTAL-CODE:90740
LOCALITY:Seal Beach
REGION:ABBREV=CA
COUNTRY:ABBREV=US;ABBREV=USA:United States
URL;TYPE=Event Listing:https://estatesales.org/estate-sales/ca/seal-beach/90740/50-off-seal-beach-antiques-2332104
PRIORITY:1
CLASS:PUBLIC
SEQUENCE:0
STATUS:CONFIRMED
TRANSP:OPAQUE
END:VEVENT
END:VCALENDAR
