BEGIN:VCALENDAR
VERSION:2.0
METHOD:PUBLISH
BEGIN:VEVENT
DTSTART:20190823T150000Z
DTEND:20190824T190000Z
LOCATION:Overland Park, KS 66213
TRANSP: OPAQUE
SEQUENCE:0
UID:
DTSTAMP:20260419T082628Z
SUMMARY:Caring Transitions Kansas City in Overland Park
DESCRIPTION:Caring Transitions Kansas City in Overland Park Caring Transitions Kansas City 
UID:1776608788
STREET-ADDRESS:See website
POSTAL-CODE:66213
LOCALITY:Overland Park
REGION:ABBREV=KS
COUNTRY:ABBREV=US;ABBREV=USA:United States
URL;TYPE=Event Listing:https://estatesales.org/estate-sales/ks/overland-park/66213/caring-transitions-kansas-city-in-1706955
PRIORITY:1
CLASS:PUBLIC
SEQUENCE:0
STATUS:CONFIRMED
TRANSP:OPAQUE
END:VEVENT
END:VCALENDAR
