BEGIN:VCALENDAR
VERSION:2.0
METHOD:PUBLISH
BEGIN:VEVENT
DTSTART:20150823T140000Z
DTEND:20150823T200000Z
LOCATION:Ridgefield, CT 06877
TRANSP: OPAQUE
SEQUENCE:0
UID:
DTSTAMP:20260424T071815Z
SUMMARY:Moving Out of Ridgefiled Connecticut
DESCRIPTION:Moving Out of Ridgefiled Connecticut Stephanie's Storage Sale 
UID:1777036695
STREET-ADDRESS:See website
POSTAL-CODE:06877
LOCALITY:Ridgefield
REGION:ABBREV=CT
COUNTRY:ABBREV=US;ABBREV=USA:United States
URL;TYPE=Event Listing:https://estatesales.org/estate-sales/ct/ridgefield/06877/moving-out-of-ridgefiled-connecticut-644985
PRIORITY:1
CLASS:PUBLIC
SEQUENCE:0
STATUS:CONFIRMED
TRANSP:OPAQUE
END:VEVENT
END:VCALENDAR
