BEGIN:VCALENDAR
VERSION:2.0
METHOD:PUBLISH
BEGIN:VEVENT
DTSTART:20130823T120000Z
DTEND:20130825T160000Z
LOCATION:Fort Lauderdale, FL 33306
TRANSP: OPAQUE
SEQUENCE:0
UID:
DTSTAMP:20260424T121809Z
SUMMARY:Oakland Park Estate Sale
DESCRIPTION:Oakland Park Estate Sale All Estate Liquidators llc 
UID:1777054689
STREET-ADDRESS:See website
POSTAL-CODE:33306
LOCALITY:Fort Lauderdale
REGION:ABBREV=FL
COUNTRY:ABBREV=US;ABBREV=USA:United States
URL;TYPE=Event Listing:https://estatesales.org/estate-sales/fl/fort-lauderdale/33306/oakland-park-estate-sale-312822
PRIORITY:1
CLASS:PUBLIC
SEQUENCE:0
STATUS:CONFIRMED
TRANSP:OPAQUE
END:VEVENT
END:VCALENDAR
