BEGIN:VCALENDAR
VERSION:2.0
METHOD:PUBLISH
BEGIN:VEVENT
DTSTART:20250822T150000Z
DTEND:20250823T220000Z
LOCATION:Oklahoma City, OK 73122
TRANSP: OPAQUE
SEQUENCE:0
UID:
DTSTAMP:20260421T124213Z
SUMMARY:Huge packed 4 bedroom home with all the goodies
DESCRIPTION:Huge packed 4 bedroom home with all the goodies Justice Estate Liquidations 
UID:1776796933
STREET-ADDRESS:See website
POSTAL-CODE:73122
LOCALITY:Oklahoma City
REGION:ABBREV=OK
COUNTRY:ABBREV=US;ABBREV=USA:United States
URL;TYPE=Event Listing:https://estatesales.org/estate-sales/ok/oklahoma-city/73122/huge-packed-4-bedroom-home-2397287
PRIORITY:1
CLASS:PUBLIC
SEQUENCE:0
STATUS:CONFIRMED
TRANSP:OPAQUE
END:VEVENT
END:VCALENDAR
