BEGIN:VCALENDAR
VERSION:2.0
METHOD:PUBLISH
BEGIN:VEVENT
DTSTART:20250822T150000Z
DTEND:20250823T190000Z
LOCATION:Oklahoma City, OK 73160
TRANSP: OPAQUE
SEQUENCE:0
UID:
DTSTAMP:20260425T113009Z
SUMMARY:East Moore Estate Sale
DESCRIPTION:East Moore Estate Sale Vincent Estate Sales 
UID:1777138209
STREET-ADDRESS:See website
POSTAL-CODE:73160
LOCALITY:Oklahoma City
REGION:ABBREV=OK
COUNTRY:ABBREV=US;ABBREV=USA:United States
URL;TYPE=Event Listing:https://estatesales.org/estate-sales/ok/moore-/73160/east-moore-estate-sale-2396985
PRIORITY:1
CLASS:PUBLIC
SEQUENCE:0
STATUS:CONFIRMED
TRANSP:OPAQUE
END:VEVENT
END:VCALENDAR
