BEGIN:VCALENDAR
VERSION:2.0
METHOD:PUBLISH
BEGIN:VEVENT
DTSTART:20250822T120000Z
DTEND:20250824T200000Z
LOCATION:Trappe, MD 21673
TRANSP: OPAQUE
SEQUENCE:0
UID:
DTSTAMP:20260423T222435Z
SUMMARY:Time Bandits Collectibles -- Pre-Labor Day Antique Estate Sale
DESCRIPTION:Time Bandits Collectibles -- Pre-Labor Day Antique Estate Sale
UID:1777004675
STREET-ADDRESS:See website
POSTAL-CODE:21673
LOCALITY:Trappe
REGION:ABBREV=MD
COUNTRY:ABBREV=US;ABBREV=USA:United States
URL;TYPE=Event Listing:https://estatesales.org/estate-sales/md/trappe/21673/time-bandits-collectibles-prelabor-day-2395473
PRIORITY:1
CLASS:PUBLIC
SEQUENCE:0
STATUS:CONFIRMED
TRANSP:OPAQUE
END:VEVENT
END:VCALENDAR
