BEGIN:VCALENDAR
VERSION:2.0
METHOD:PUBLISH
BEGIN:VEVENT
DTSTART:20250822T150000Z
DTEND:20250823T190000Z
LOCATION:Chandler, AZ 85249
TRANSP: OPAQUE
SEQUENCE:0
UID:
DTSTAMP:20260419T194934Z
SUMMARY:Sunbird 2 subdivision - Chandler
DESCRIPTION:Sunbird 2 subdivision - Chandler Arizona Finds 
UID:1776649774
STREET-ADDRESS:See website
POSTAL-CODE:85249
LOCALITY:Chandler
REGION:ABBREV=AZ
COUNTRY:ABBREV=US;ABBREV=USA:United States
URL;TYPE=Event Listing:https://estatesales.org/estate-sales/az/chandler/85249/sunbird2-subdivision-chandler-2396640
PRIORITY:1
CLASS:PUBLIC
SEQUENCE:0
STATUS:CONFIRMED
TRANSP:OPAQUE
END:VEVENT
END:VCALENDAR
