BEGIN:VCALENDAR
VERSION:2.0
METHOD:PUBLISH
BEGIN:VEVENT
DTSTART:20250822T223000Z
DTEND:20250823T020000Z
LOCATION:Portsmouth, VA 23707
TRANSP: OPAQUE
SEQUENCE:0
UID:
DTSTAMP:20260421T032608Z
SUMMARY:SPECIAL AUCTION **FRIDAY AUGUST 22nd - 6:30 PM ** AT NEW LOCATION!!! 3614 SCOTT STREET PORTSMOUTH VA 23707
DESCRIPTION:SPECIAL AUCTION **FRIDAY AUGUST 22nd - 6:30 PM ** AT NEW LOCATION!!! 3614 SCOTT STREET PORTSMOUTH VA 23707 Randy's Auction Gallery Ltd. 
UID:1776763568
STREET-ADDRESS:See website
POSTAL-CODE:23707
LOCALITY:Portsmouth
REGION:ABBREV=VA
COUNTRY:ABBREV=US;ABBREV=USA:United States
URL;TYPE=Event Listing:https://estatesales.org/estate-sales/va/portsmouth/23707/special-auction-friday-august-22nd-2393761
PRIORITY:1
CLASS:PUBLIC
SEQUENCE:0
STATUS:CONFIRMED
TRANSP:OPAQUE
END:VEVENT
END:VCALENDAR
