BEGIN:VCALENDAR
VERSION:2.0
METHOD:PUBLISH
BEGIN:VEVENT
DTSTART:20240822T130000Z
DTEND:20240824T183000Z
LOCATION:Clearwater, FL 33755
TRANSP: OPAQUE
SEQUENCE:0
UID:
DTSTAMP:20260423T005916Z
SUMMARY:Clearwater Sale
DESCRIPTION:Clearwater Sale Complete Estate Liquidation 
UID:1776927556
STREET-ADDRESS:See website
POSTAL-CODE:33755
LOCALITY:Clearwater
REGION:ABBREV=FL
COUNTRY:ABBREV=US;ABBREV=USA:United States
URL;TYPE=Event Listing:https://estatesales.org/estate-sales/fl/clearwater/33755/clearwater-sale-2334845
PRIORITY:1
CLASS:PUBLIC
SEQUENCE:0
STATUS:CONFIRMED
TRANSP:OPAQUE
END:VEVENT
END:VCALENDAR
