BEGIN:VCALENDAR
VERSION:2.0
METHOD:PUBLISH
BEGIN:VEVENT
DTSTART:20240822T120000Z
DTEND:20240824T160000Z
LOCATION:New Port Richey, FL 34655
TRANSP: OPAQUE
SEQUENCE:0
UID:
DTSTAMP:20260423T094746Z
SUMMARY:BABY BOOMERS NEWPORT RICHEY ESTATE SALE
DESCRIPTION:BABY BOOMERS NEWPORT RICHEY ESTATE SALE Baby Boomers Estate Sales 
UID:1776959266
STREET-ADDRESS:See website
POSTAL-CODE:34655
LOCALITY:New Port Richey
REGION:ABBREV=FL
COUNTRY:ABBREV=US;ABBREV=USA:United States
URL;TYPE=Event Listing:https://estatesales.org/estate-sales/fl/new-port-richey/34655/baby-boomers-newport-richey-estate-2333721
PRIORITY:1
CLASS:PUBLIC
SEQUENCE:0
STATUS:CONFIRMED
TRANSP:OPAQUE
END:VEVENT
END:VCALENDAR
