BEGIN:VCALENDAR
VERSION:2.0
METHOD:PUBLISH
BEGIN:VEVENT
DTSTART:20190822T140000Z
DTEND:20190825T220000Z
LOCATION:Houston, TX 77058
TRANSP: OPAQUE
SEQUENCE:0
UID:
DTSTAMP:20260424T170840Z
SUMMARY:Mayeux Estate Sale
DESCRIPTION:Mayeux Estate Sale Arbor Antiques Services, Inc. 
UID:1777072120
STREET-ADDRESS:See website
POSTAL-CODE:77058
LOCALITY:Houston
REGION:ABBREV=TX
COUNTRY:ABBREV=US;ABBREV=USA:United States
URL;TYPE=Event Listing:https://estatesales.org/estate-sales/tx/houston/77058/mayeux-estate-sale-1704441
PRIORITY:1
CLASS:PUBLIC
SEQUENCE:0
STATUS:CONFIRMED
TRANSP:OPAQUE
END:VEVENT
END:VCALENDAR
