BEGIN:VCALENDAR
VERSION:2.0
METHOD:PUBLISH
BEGIN:VEVENT
DTSTART:20150822T130000Z
DTEND:20150823T190000Z
LOCATION:Louisville, KY 40243
TRANSP: OPAQUE
SEQUENCE:0
UID:
DTSTAMP:20260424T151348Z
SUMMARY:Kolb Estate Sale
DESCRIPTION:Kolb Estate Sale Caring Transitions 
UID:1777065228
STREET-ADDRESS:See website
POSTAL-CODE:40243
LOCALITY:Louisville
REGION:ABBREV=KY
COUNTRY:ABBREV=US;ABBREV=USA:United States
URL;TYPE=Event Listing:https://estatesales.org/estate-sales/ky/louisville/40243/kolb-estate-sale-652881
PRIORITY:1
CLASS:PUBLIC
SEQUENCE:0
STATUS:CONFIRMED
TRANSP:OPAQUE
END:VEVENT
END:VCALENDAR
