BEGIN:VCALENDAR
VERSION:2.0
METHOD:PUBLISH
BEGIN:VEVENT
DTSTART:20150822T100000Z
DTEND:20150826T020000Z
LOCATION:Hampton, VA 23663
TRANSP: OPAQUE
SEQUENCE:0
UID:
DTSTAMP:20260424T115756Z
SUMMARY:Hampton Estate Auction - Buckroe Beach Area
DESCRIPTION:Hampton Estate Auction - Buckroe Beach Area United Country-A.B. Cole & Associates 
UID:1777053476
STREET-ADDRESS:See website
POSTAL-CODE:23663
LOCALITY:Hampton
REGION:ABBREV=VA
COUNTRY:ABBREV=US;ABBREV=USA:United States
URL;TYPE=Event Listing:https://estatesales.org/estate-sales/va/hampton/23663/hampton-estate-auction-buckroe-beach-656887
PRIORITY:1
CLASS:PUBLIC
SEQUENCE:0
STATUS:CONFIRMED
TRANSP:OPAQUE
END:VEVENT
END:VCALENDAR
