BEGIN:VCALENDAR
VERSION:2.0
METHOD:PUBLISH
BEGIN:VEVENT
DTSTART:20140822T130000Z
DTEND:20140824T170000Z
LOCATION:Florence, KY 41042
TRANSP: OPAQUE
SEQUENCE:0
UID:
DTSTAMP:20260424T133525Z
SUMMARY:Felthaus Estate Sale
DESCRIPTION:Felthaus Estate Sale Caring Transitions 
UID:1777059325
STREET-ADDRESS:See website
POSTAL-CODE:41042
LOCALITY:Florence
REGION:ABBREV=KY
COUNTRY:ABBREV=US;ABBREV=USA:United States
URL;TYPE=Event Listing:https://estatesales.org/estate-sales/ky/florence/41042/felthaus-estate-sale-437770
PRIORITY:1
CLASS:PUBLIC
SEQUENCE:0
STATUS:CONFIRMED
TRANSP:OPAQUE
END:VEVENT
END:VCALENDAR
