BEGIN:VCALENDAR
VERSION:2.0
METHOD:PUBLISH
BEGIN:VEVENT
DTSTART:20250821T180000Z
DTEND:20250823T220000Z
LOCATION:Seattle, WA 98144
TRANSP: OPAQUE
SEQUENCE:0
UID:
DTSTAMP:20260420T094334Z
SUMMARY:Seattle/Mt. Baker/ - S. McClellan St. and 31st Ave S. - 3 DAY ESTATE SALE - CHES
DESCRIPTION:Seattle/Mt. Baker/ - S. McClellan St. and 31st Ave S. - 3 DAY ESTATE SALE - CHES Cosmopolitan Hoarder Estate Services, LLC 
UID:1776699814
STREET-ADDRESS:See website
POSTAL-CODE:98144
LOCALITY:Seattle
REGION:ABBREV=WA
COUNTRY:ABBREV=US;ABBREV=USA:United States
URL;TYPE=Event Listing:https://estatesales.org/estate-sales/wa/seattle/98144/seattlemt-baker-s-mcclellan-st-2395307
PRIORITY:1
CLASS:PUBLIC
SEQUENCE:0
STATUS:CONFIRMED
TRANSP:OPAQUE
END:VEVENT
END:VCALENDAR
