BEGIN:VCALENDAR
VERSION:2.0
METHOD:PUBLISH
BEGIN:VEVENT
DTSTART:20250821T160000Z
DTEND:20250823T210000Z
LOCATION:Rancho Palos Verdes, CA 90275
TRANSP: OPAQUE
SEQUENCE:0
UID:
DTSTAMP:20260420T002753Z
SUMMARY:40% Off Saturday - Clothing $2-$8 - Car Auction 12:45pm Sharp
DESCRIPTION:40% Off Saturday - Clothing $2-$8 - Car Auction 12:45pm Sharp Diamond Heirlooms Estate Sales & Consulting  LLC 
UID:1776666473
STREET-ADDRESS:See website
POSTAL-CODE:90275
LOCALITY:Rancho Palos Verdes
REGION:ABBREV=CA
COUNTRY:ABBREV=US;ABBREV=USA:United States
URL;TYPE=Event Listing:https://estatesales.org/estate-sales/ca/rancho-palos-verdes/90275/20-off-friday-car-auction-2396064
PRIORITY:1
CLASS:PUBLIC
SEQUENCE:0
STATUS:CONFIRMED
TRANSP:OPAQUE
END:VEVENT
END:VCALENDAR
