BEGIN:VCALENDAR
VERSION:2.0
METHOD:PUBLISH
BEGIN:VEVENT
DTSTART:20250821T150000Z
DTEND:20250822T200000Z
LOCATION:Littleton, CO 80129
TRANSP: OPAQUE
SEQUENCE:0
UID:
DTSTAMP:20260419T061835Z
SUMMARY:Grasons of Highlands Ranch: 8/22/25 - 30% off!!!
DESCRIPTION:Grasons of Highlands Ranch: 8/22/25 - 30% off!!! Grasons of Southwest Denver, CO 
UID:1776601115
STREET-ADDRESS:See website
POSTAL-CODE:80129
LOCALITY:Littleton
REGION:ABBREV=CO
COUNTRY:ABBREV=US;ABBREV=USA:United States
URL;TYPE=Event Listing:https://estatesales.org/estate-sales/co/littleton/80129/grasons-of-highlands-ranch-82225-2396582
PRIORITY:1
CLASS:PUBLIC
SEQUENCE:0
STATUS:CONFIRMED
TRANSP:OPAQUE
END:VEVENT
END:VCALENDAR
