BEGIN:VCALENDAR
VERSION:2.0
METHOD:PUBLISH
BEGIN:VEVENT
DTSTART:20150821T130000Z
DTEND:20150822T200000Z
LOCATION:Rochester, MI 48309
TRANSP: OPAQUE
SEQUENCE:0
UID:
DTSTAMP:20260421T071318Z
SUMMARY:Estate Sale in Rochester Hills, Michigan
DESCRIPTION:Estate Sale in Rochester Hills, Michigan Caring Transitions of Oakland County MI 
UID:1776777198
STREET-ADDRESS:See website
POSTAL-CODE:48309
LOCALITY:Rochester
REGION:ABBREV=MI
COUNTRY:ABBREV=US;ABBREV=USA:United States
URL;TYPE=Event Listing:https://estatesales.org/estate-sales/mi/rochester/48309/estate-sale-in-rochester-hills-652335
PRIORITY:1
CLASS:PUBLIC
SEQUENCE:0
STATUS:CONFIRMED
TRANSP:OPAQUE
END:VEVENT
END:VCALENDAR
