BEGIN:VCALENDAR
VERSION:2.0
METHOD:PUBLISH
BEGIN:VEVENT
DTSTART:20150821T230000Z
DTEND:20150822T020000Z
LOCATION:Bremen, GA 30110
TRANSP: OPAQUE
SEQUENCE:0
UID:
DTSTAMP:20260420T161956Z
SUMMARY:Coin & Currency Auction 
DESCRIPTION:Coin & Currency Auction  Rich Auctions LLC 
UID:1776723596
STREET-ADDRESS:See website
POSTAL-CODE:30110
LOCALITY:Bremen
REGION:ABBREV=GA
COUNTRY:ABBREV=US;ABBREV=USA:United States
URL;TYPE=Event Listing:https://estatesales.org/estate-sales/ga/bremen/30110/coin-currency-auction-653491
PRIORITY:1
CLASS:PUBLIC
SEQUENCE:0
STATUS:CONFIRMED
TRANSP:OPAQUE
END:VEVENT
END:VCALENDAR
