BEGIN:VCALENDAR
VERSION:2.0
METHOD:PUBLISH
BEGIN:VEVENT
DTSTART:20220820T160000Z
DTEND:20220821T210000Z
LOCATION:Valley Village, CA 91607
TRANSP: OPAQUE
SEQUENCE:0
UID:
DTSTAMP:20260420T021114Z
SUMMARY:Must See- Mid Century - Vintage Time Capsule Estate of Famous I Magnin Model and Family. Vintage High End Clothing and Full House
DESCRIPTION:Must See- Mid Century - Vintage Time Capsule Estate of Famous I Magnin Model and Family. Vintage High End Clothing and Full House Triumphant Estate Sales of Los Angeles 
UID:1776672674
STREET-ADDRESS:See website
POSTAL-CODE:91607
LOCALITY:Valley Village
REGION:ABBREV=CA
COUNTRY:ABBREV=US;ABBREV=USA:United States
URL;TYPE=Event Listing:https://estatesales.org/estate-sales/ca/valley-village/91607/must-see-mid-century-vintage-2083575
PRIORITY:1
CLASS:PUBLIC
SEQUENCE:0
STATUS:CONFIRMED
TRANSP:OPAQUE
END:VEVENT
END:VCALENDAR
