BEGIN:VCALENDAR
VERSION:2.0
METHOD:PUBLISH
BEGIN:VEVENT
DTSTART:20210820T150000Z
DTEND:20210821T200000Z
LOCATION:Lake Zurich, IL 60047
TRANSP: OPAQUE
SEQUENCE:0
UID:
DTSTAMP:20260425T162651Z
SUMMARY:50% OFF EVERYTHING TODAY ONLY!  Blue Moon Exciting Sale In Hawthorn Woods IL!
DESCRIPTION:50% OFF EVERYTHING TODAY ONLY!  Blue Moon Exciting Sale In Hawthorn Woods IL! Blue Moon Estate Sales 
UID:1777156011
STREET-ADDRESS:See website
POSTAL-CODE:60047
LOCALITY:Lake Zurich
REGION:ABBREV=IL
COUNTRY:ABBREV=US;ABBREV=USA:United States
URL;TYPE=Event Listing:https://estatesales.org/estate-sales/il/hawthorn-woods/60047/50-off-everything-today-only-1942137
PRIORITY:1
CLASS:PUBLIC
SEQUENCE:0
STATUS:CONFIRMED
TRANSP:OPAQUE
END:VEVENT
END:VCALENDAR
