BEGIN:VCALENDAR
VERSION:2.0
METHOD:PUBLISH
BEGIN:VEVENT
DTSTART:20210820T130000Z
DTEND:20210821T190000Z
LOCATION:Webb City, MO 64870
TRANSP: OPAQUE
SEQUENCE:0
UID:
DTSTAMP:20260419T122550Z
SUMMARY:Estate Tag Sale of the Late Col David Auld and Marjorie Auld- Military, Tools, Bike, VINTAGE!
DESCRIPTION:Estate Tag Sale of the Late Col David Auld and Marjorie Auld- Military, Tools, Bike, VINTAGE! New Beginnings Estate Sales of SW MO 
UID:1776623150
STREET-ADDRESS:See website
POSTAL-CODE:64870
LOCALITY:Webb City
REGION:ABBREV=MO
COUNTRY:ABBREV=US;ABBREV=USA:United States
URL;TYPE=Event Listing:https://estatesales.org/estate-sales/mo/webb-city/64870/estate-tag-sale-of-the-1946135
PRIORITY:1
CLASS:PUBLIC
SEQUENCE:0
STATUS:CONFIRMED
TRANSP:OPAQUE
END:VEVENT
END:VCALENDAR
