BEGIN:VCALENDAR
VERSION:2.0
METHOD:PUBLISH
BEGIN:VEVENT
DTSTART:20230819T130000Z
DTEND:20230819T190000Z
LOCATION:Wayland, MA 01778
TRANSP: OPAQUE
SEQUENCE:0
UID:
DTSTAMP:20260419T092802Z
SUMMARY:Fine Wayland One Day Estate Sale  Saturday, August 19 (9-3)
DESCRIPTION:Fine Wayland One Day Estate Sale  Saturday, August 19 (9-3) Estate Sale Specialists, LLC 
UID:1776612482
STREET-ADDRESS:See website
POSTAL-CODE:01778
LOCALITY:Wayland
REGION:ABBREV=MA
COUNTRY:ABBREV=US;ABBREV=USA:United States
URL;TYPE=Event Listing:https://estatesales.org/estate-sales/ma/wayland/01778/fine-wayland-one-day-estate-2219271
PRIORITY:1
CLASS:PUBLIC
SEQUENCE:0
STATUS:CONFIRMED
TRANSP:OPAQUE
END:VEVENT
END:VCALENDAR
