BEGIN:VCALENDAR
VERSION:2.0
METHOD:PUBLISH
BEGIN:VEVENT
DTSTART:20230819T130000Z
DTEND:20230819T180000Z
LOCATION:Marlborough, MA 01752
TRANSP: OPAQUE
SEQUENCE:0
UID:
DTSTAMP:20260420T051011Z
SUMMARY:Collectibles, Home goods Antique & Vintage 2 Shops Inside & On the Field Sale SAT 8/19 9am - 2PM Marlborough MA
DESCRIPTION:Collectibles, Home goods Antique & Vintage 2 Shops Inside & On the Field Sale SAT 8/19 9am - 2PM Marlborough MA filly89 AUCTIONS 
UID:1776683411
STREET-ADDRESS:See website
POSTAL-CODE:01752
LOCALITY:Marlborough
REGION:ABBREV=MA
COUNTRY:ABBREV=US;ABBREV=USA:United States
URL;TYPE=Event Listing:https://estatesales.org/estate-sales/ma/marlborough/01752/collectibles-home-goods-antique-vintage-2221191
PRIORITY:1
CLASS:PUBLIC
SEQUENCE:0
STATUS:CONFIRMED
TRANSP:OPAQUE
END:VEVENT
END:VCALENDAR
