BEGIN:VCALENDAR
VERSION:2.0
METHOD:PUBLISH
BEGIN:VEVENT
DTSTART:20220819T170000Z
DTEND:20220821T210000Z
LOCATION:Brutus, MI 49716
TRANSP: OPAQUE
SEQUENCE:0
UID:
DTSTAMP:20260423T233333Z
SUMMARY:Aurand Lunt Estate Sale
DESCRIPTION:Aurand Lunt Estate Sale Black River Estate Sales 
UID:1777008813
STREET-ADDRESS:See website
POSTAL-CODE:49716
LOCALITY:Brutus
REGION:ABBREV=MI
COUNTRY:ABBREV=US;ABBREV=USA:United States
URL;TYPE=Event Listing:https://estatesales.org/estate-sales/mi/brutus/49716/aurand-lunt-estate-sale-2070891
PRIORITY:1
CLASS:PUBLIC
SEQUENCE:0
STATUS:CONFIRMED
TRANSP:OPAQUE
END:VEVENT
END:VCALENDAR
