BEGIN:VCALENDAR
VERSION:2.0
METHOD:PUBLISH
BEGIN:VEVENT
DTSTART:20210819T130000Z
DTEND:20210819T200000Z
LOCATION:Jackson, MI 49201
TRANSP: OPAQUE
SEQUENCE:0
UID:
DTSTAMP:20260423T233327Z
SUMMARY:Estate Sale that is full of wonders, in Jackson, Mi. 49201
DESCRIPTION:Estate Sale that is full of wonders, in Jackson, Mi. 49201 Caring Transitions of S.E. Michigan 
UID:1777008807
STREET-ADDRESS:See website
POSTAL-CODE:49201
LOCALITY:Jackson
REGION:ABBREV=MI
COUNTRY:ABBREV=US;ABBREV=USA:United States
URL;TYPE=Event Listing:https://estatesales.org/estate-sales/mi/jackson/49201/estate-sale-that-is-full-1945273
PRIORITY:1
CLASS:PUBLIC
SEQUENCE:0
STATUS:CONFIRMED
TRANSP:OPAQUE
END:VEVENT
END:VCALENDAR
