BEGIN:VCALENDAR
VERSION:2.0
METHOD:PUBLISH
BEGIN:VEVENT
DTSTART:20160819T150000Z
DTEND:20160821T190000Z
LOCATION:Jackson, WI 53037
TRANSP: OPAQUE
SEQUENCE:0
UID:
DTSTAMP:20260420T030213Z
SUMMARY:Jackson Estate Sale
DESCRIPTION:Jackson Estate Sale All in the Family Estate Sales 
UID:1776675733
STREET-ADDRESS:See website
POSTAL-CODE:53037
LOCALITY:Jackson
REGION:ABBREV=WI
COUNTRY:ABBREV=US;ABBREV=USA:United States
URL;TYPE=Event Listing:https://estatesales.org/estate-sales/wi/jackson/53037/jackson-estate-sale-945195
PRIORITY:1
CLASS:PUBLIC
SEQUENCE:0
STATUS:CONFIRMED
TRANSP:OPAQUE
END:VEVENT
END:VCALENDAR
