BEGIN:VCALENDAR
VERSION:2.0
METHOD:PUBLISH
BEGIN:VEVENT
DTSTART:20240818T130000Z
DTEND:20240818T180000Z
LOCATION:Newton, MA 02465
TRANSP: OPAQUE
SEQUENCE:0
UID:
DTSTAMP:20260424T190640Z
SUMMARY:SUPERB WEST NEWTON ESTATE SALE SUN AUG 18TH ANTIQUES, MASSIVE VINTAGE JAPANESE COMIC BOOK COLLECTION, ASIAN PIECES, WALL DECOR, FURNITURE, ELECTRONICS, TOOLS & MORE! DON'T MISS OUT ON THIS ONE!
DESCRIPTION:SUPERB WEST NEWTON ESTATE SALE SUN AUG 18TH ANTIQUES, MASSIVE VINTAGE JAPANESE COMIC BOOK COLLECTION, ASIAN PIECES, WALL DECOR, FURNITURE, ELECTRONICS, TOOLS & MORE! DON'T MISS OUT ON THIS ONE! BEST RATE CLEANOUTS & ESTATE SALES 
UID:1777079200
STREET-ADDRESS:See website
POSTAL-CODE:02465
LOCALITY:Newton
REGION:ABBREV=MA
COUNTRY:ABBREV=US;ABBREV=USA:United States
URL;TYPE=Event Listing:https://estatesales.org/estate-sales/ma/newton/02465/superb-west-newton-estate-sale-2317900
PRIORITY:1
CLASS:PUBLIC
SEQUENCE:0
STATUS:CONFIRMED
TRANSP:OPAQUE
END:VEVENT
END:VCALENDAR
