BEGIN:VCALENDAR
VERSION:2.0
METHOD:PUBLISH
BEGIN:VEVENT
DTSTART:20230818T130000Z
DTEND:20230818T180000Z
LOCATION:Shelton, CT 06484
TRANSP: OPAQUE
SEQUENCE:0
UID:
DTSTAMP:20260421T170452Z
SUMMARY:Shelton Flash Downsizing - FRIDAY ONLY
DESCRIPTION:Shelton Flash Downsizing - FRIDAY ONLY Connecticut Treasures 
UID:1776812692
STREET-ADDRESS:See website
POSTAL-CODE:06484
LOCALITY:Shelton
REGION:ABBREV=CT
COUNTRY:ABBREV=US;ABBREV=USA:United States
URL;TYPE=Event Listing:https://estatesales.org/estate-sales/ct/shelton/06484/shelton-flash-downsizing-friday-only-2220455
PRIORITY:1
CLASS:PUBLIC
SEQUENCE:0
STATUS:CONFIRMED
TRANSP:OPAQUE
END:VEVENT
END:VCALENDAR
