BEGIN:VCALENDAR
VERSION:2.0
METHOD:PUBLISH
BEGIN:VEVENT
DTSTART:20230818T140000Z
DTEND:20230819T190000Z
LOCATION:Bakersfield, CA 93311
TRANSP: OPAQUE
SEQUENCE:0
UID:
DTSTAMP:20260422T084547Z
SUMMARY:Great Basic Sale By TLC ESTATE SALE LADIES 
DESCRIPTION:Great Basic Sale By TLC ESTATE SALE LADIES  TLC Estate Sale Ladies 
UID:1776869147
STREET-ADDRESS:See website
POSTAL-CODE:93311
LOCALITY:Bakersfield
REGION:ABBREV=CA
COUNTRY:ABBREV=US;ABBREV=USA:United States
URL;TYPE=Event Listing:https://estatesales.org/estate-sales/ca/bakersfield/93311/great-basic-sale-by-tlc-2220157
PRIORITY:1
CLASS:PUBLIC
SEQUENCE:0
STATUS:CONFIRMED
TRANSP:OPAQUE
END:VEVENT
END:VCALENDAR
