BEGIN:VCALENDAR
VERSION:2.0
METHOD:PUBLISH
BEGIN:VEVENT
DTSTART:20220818T140000Z
DTEND:20220820T190000Z
LOCATION:Batavia, IL 60510
TRANSP: OPAQUE
SEQUENCE:0
UID:
DTSTAMP:20260425T144050Z
SUMMARY:Grasons of NW Chicagoland 3 day Batavia estate sale
DESCRIPTION:Grasons of NW Chicagoland 3 day Batavia estate sale Grasons Co of NW Chicagoland 
UID:1777149650
STREET-ADDRESS:See website
POSTAL-CODE:60510
LOCALITY:Batavia
REGION:ABBREV=IL
COUNTRY:ABBREV=US;ABBREV=USA:United States
URL;TYPE=Event Listing:https://estatesales.org/estate-sales/il/batavia/60510/grasons-of-nw-chicagoland-3-2072131
PRIORITY:1
CLASS:PUBLIC
SEQUENCE:0
STATUS:CONFIRMED
TRANSP:OPAQUE
END:VEVENT
END:VCALENDAR
