BEGIN:VCALENDAR
VERSION:2.0
METHOD:PUBLISH
BEGIN:VEVENT
DTSTART:20170818T130000Z
DTEND:20170819T200000Z
LOCATION:Farmington, MI 48336
TRANSP: OPAQUE
SEQUENCE:0
UID:
DTSTAMP:20260421T071318Z
SUMMARY:Fitness, Furniture and Fun in Farmington Hills, MI
DESCRIPTION:Fitness, Furniture and Fun in Farmington Hills, MI Caring Transitions of Oakland County MI 
UID:1776777198
STREET-ADDRESS:See website
POSTAL-CODE:48336
LOCALITY:Farmington
REGION:ABBREV=MI
COUNTRY:ABBREV=US;ABBREV=USA:United States
URL;TYPE=Event Listing:https://estatesales.org/estate-sales/mi/farmington/48336/fitness-furniture-and-fun-in-1343663
PRIORITY:1
CLASS:PUBLIC
SEQUENCE:0
STATUS:CONFIRMED
TRANSP:OPAQUE
END:VEVENT
END:VCALENDAR
