BEGIN:VCALENDAR
VERSION:2.0
METHOD:PUBLISH
BEGIN:VEVENT
DTSTART:20170818T150000Z
DTEND:20170819T210000Z
LOCATION:Simi Valley, CA 93063
TRANSP: OPAQUE
SEQUENCE:0
UID:
DTSTAMP:20260422T140721Z
SUMMARY:Simi Valley Estate since 1917!!!
DESCRIPTION:Simi Valley Estate since 1917!!! Estate Sale Solutions - American Vintage 
UID:1776888441
STREET-ADDRESS:See website
POSTAL-CODE:93063
LOCALITY:Simi Valley
REGION:ABBREV=CA
COUNTRY:ABBREV=US;ABBREV=USA:United States
URL;TYPE=Event Listing:https://estatesales.org/estate-sales/ca/simi-valley/93063/simi-valley-estate-since-1917-1343333
PRIORITY:1
CLASS:PUBLIC
SEQUENCE:0
STATUS:CONFIRMED
TRANSP:OPAQUE
END:VEVENT
END:VCALENDAR
