BEGIN:VCALENDAR
VERSION:2.0
METHOD:PUBLISH
BEGIN:VEVENT
DTSTART:20160818T100000Z
DTEND:20160821T040000Z
LOCATION:Richmond, VA 23235
TRANSP: OPAQUE
SEQUENCE:0
UID:
DTSTAMP:20260424T040203Z
SUMMARY: ONLINE NOW!!  PREMIER NEIGHBORHOOD ESTATE LIQUIDATION ONLINE AUCTION!!
DESCRIPTION: ONLINE NOW!!  PREMIER NEIGHBORHOOD ESTATE LIQUIDATION ONLINE AUCTION!! Estate Finds 4 U & Appraisals 
UID:1777024923
STREET-ADDRESS:See website
POSTAL-CODE:23235
LOCALITY:Richmond
REGION:ABBREV=VA
COUNTRY:ABBREV=US;ABBREV=USA:United States
URL;TYPE=Event Listing:https://estatesales.org/estate-sales/va/richmond/23235/online-now-premier-neighborhood-estate-953773
PRIORITY:1
CLASS:PUBLIC
SEQUENCE:0
STATUS:CONFIRMED
TRANSP:OPAQUE
END:VEVENT
END:VCALENDAR
