BEGIN:VCALENDAR
VERSION:2.0
METHOD:PUBLISH
BEGIN:VEVENT
DTSTART:20230817T150000Z
DTEND:20230819T200000Z
LOCATION:Safety Harbor, FL 34695
TRANSP: OPAQUE
SEQUENCE:0
UID:
DTSTAMP:20260421T145158Z
SUMMARY:3 Day Safety Harbor Estate Sale
DESCRIPTION:3 Day Safety Harbor Estate Sale Done Deal Estate Sales and Appraisals, LLC 
UID:1776804718
STREET-ADDRESS:See website
POSTAL-CODE:34695
LOCALITY:Safety Harbor
REGION:ABBREV=FL
COUNTRY:ABBREV=US;ABBREV=USA:United States
URL;TYPE=Event Listing:https://estatesales.org/estate-sales/fl/safety-harbor/34695/3-day-safety-harbor-estate-2220789
PRIORITY:1
CLASS:PUBLIC
SEQUENCE:0
STATUS:CONFIRMED
TRANSP:OPAQUE
END:VEVENT
END:VCALENDAR
