BEGIN:VCALENDAR
VERSION:2.0
METHOD:PUBLISH
BEGIN:VEVENT
DTSTART:20190817T150000Z
DTEND:20190818T230000Z
LOCATION:Aurora, CO 80016
TRANSP: OPAQUE
SEQUENCE:0
UID:
DTSTAMP:20260419T113747Z
SUMMARY:Fine Art/POP ART Fun Collectibles, Rare Toys, Non Sports Cards Fun Furniture Sale! Wacky Packs Garbage Pail Kids Too Picasso MR Brainwash & Banksy!
DESCRIPTION:Fine Art/POP ART Fun Collectibles, Rare Toys, Non Sports Cards Fun Furniture Sale! Wacky Packs Garbage Pail Kids Too Picasso MR Brainwash & Banksy! Auroa Colorado Estate Sales 
UID:1776620267
STREET-ADDRESS:See website
POSTAL-CODE:80016
LOCALITY:Aurora
REGION:ABBREV=CO
COUNTRY:ABBREV=US;ABBREV=USA:United States
URL;TYPE=Event Listing:https://estatesales.org/estate-sales/co/aurora/80016/fine-artpop-art-fun-collectibles-1702775
PRIORITY:1
CLASS:PUBLIC
SEQUENCE:0
STATUS:CONFIRMED
TRANSP:OPAQUE
END:VEVENT
END:VCALENDAR
