BEGIN:VCALENDAR
VERSION:2.0
METHOD:PUBLISH
BEGIN:VEVENT
DTSTART:20190817T133000Z
DTEND:20190817T193000Z
LOCATION:Munster, IN 46321
TRANSP: OPAQUE
SEQUENCE:0
UID:
DTSTAMP:20260419T082557Z
SUMMARY:75% OFF BLOWOUT Saturday, 200+ Art, Dressers, Eclectic, 2 min from ILL Stateline 
DESCRIPTION:75% OFF BLOWOUT Saturday, 200+ Art, Dressers, Eclectic, 2 min from ILL Stateline  Auction & Estates by Diana Cook 
UID:1776608757
STREET-ADDRESS:See website
POSTAL-CODE:46321
LOCALITY:Munster
REGION:ABBREV=IN
COUNTRY:ABBREV=US;ABBREV=USA:United States
URL;TYPE=Event Listing:https://estatesales.org/estate-sales/in/munster/46321/75-off-blowout-saturday-200-1704093
PRIORITY:1
CLASS:PUBLIC
SEQUENCE:0
STATUS:CONFIRMED
TRANSP:OPAQUE
END:VEVENT
END:VCALENDAR
