BEGIN:VCALENDAR
VERSION:2.0
METHOD:PUBLISH
BEGIN:VEVENT
DTSTART:20180817T150000Z
DTEND:20180817T233000Z
LOCATION:Wichita, KS 67208
TRANSP: OPAQUE
SEQUENCE:0
UID:
DTSTAMP:20260419T070847Z
SUMMARY:Caring Transitions of Wichita - Rutan Estate Sale
DESCRIPTION:Caring Transitions of Wichita - Rutan Estate Sale Caring Transitions of Wichita 
UID:1776604127
STREET-ADDRESS:See website
POSTAL-CODE:67208
LOCALITY:Wichita
REGION:ABBREV=KS
COUNTRY:ABBREV=US;ABBREV=USA:United States
URL;TYPE=Event Listing:https://estatesales.org/estate-sales/ks/wichita/67208/caring-transitions-of-wichita-rutan-1558121
PRIORITY:1
CLASS:PUBLIC
SEQUENCE:0
STATUS:CONFIRMED
TRANSP:OPAQUE
END:VEVENT
END:VCALENDAR
