BEGIN:VCALENDAR
VERSION:2.0
METHOD:PUBLISH
BEGIN:VEVENT
DTSTART:20130817T100000Z
DTEND:20130825T020000Z
LOCATION:Suffolk, VA 23434
TRANSP: OPAQUE
SEQUENCE:0
UID:
DTSTAMP:20260424T115813Z
SUMMARY:ABSOLUTE PERSONAL PROPERTY AUCTION
DESCRIPTION:ABSOLUTE PERSONAL PROPERTY AUCTION United Country-A.B. Cole & Associates 
UID:1777053493
STREET-ADDRESS:See website
POSTAL-CODE:23434
LOCALITY:Suffolk
REGION:ABBREV=VA
COUNTRY:ABBREV=US;ABBREV=USA:United States
URL;TYPE=Event Listing:https://estatesales.org/estate-sales/va/suffolk/23434/absolute-personal-property-auction-311778
PRIORITY:1
CLASS:PUBLIC
SEQUENCE:0
STATUS:CONFIRMED
TRANSP:OPAQUE
END:VEVENT
END:VCALENDAR
