BEGIN:VCALENDAR
VERSION:2.0
METHOD:PUBLISH
BEGIN:VEVENT
DTSTART:20250816T160000Z
DTEND:20250817T213000Z
LOCATION:Long Beach, CA 90803
TRANSP: OPAQUE
SEQUENCE:0
UID:
DTSTAMP:20260420T012552Z
SUMMARY:DISCOUNT SUNDAY LONG BEACH ESTATE SALE
DESCRIPTION:DISCOUNT SUNDAY LONG BEACH ESTATE SALE Hidden Treasure Estate Sales 
UID:1776669952
STREET-ADDRESS:See website
POSTAL-CODE:90803
LOCALITY:Long Beach
REGION:ABBREV=CA
COUNTRY:ABBREV=US;ABBREV=USA:United States
URL;TYPE=Event Listing:https://estatesales.org/estate-sales/ca/long-beach/90803/discount-sunday-long-beach-estate-2395431
PRIORITY:1
CLASS:PUBLIC
SEQUENCE:0
STATUS:CONFIRMED
TRANSP:OPAQUE
END:VEVENT
END:VCALENDAR
