BEGIN:VCALENDAR
VERSION:2.0
METHOD:PUBLISH
BEGIN:VEVENT
DTSTART:20250816T150000Z
DTEND:20250817T190000Z
LOCATION:Bakersfield, CA 93309
TRANSP: OPAQUE
SEQUENCE:0
UID:
DTSTAMP:20260422T120331Z
SUMMARY:“Club View Estate Sale Bakersfield, Ca– Furniture, Finds & More!”
DESCRIPTION:“Club View Estate Sale Bakersfield, Ca– Furniture, Finds & More!” Complete Estate Management 
UID:1776881011
STREET-ADDRESS:See website
POSTAL-CODE:93309
LOCALITY:Bakersfield
REGION:ABBREV=CA
COUNTRY:ABBREV=US;ABBREV=USA:United States
URL;TYPE=Event Listing:https://estatesales.org/estate-sales/ca/bakersfield/93309/club-view-estate-sale-bakersfield-2395843
PRIORITY:1
CLASS:PUBLIC
SEQUENCE:0
STATUS:CONFIRMED
TRANSP:OPAQUE
END:VEVENT
END:VCALENDAR
