BEGIN:VCALENDAR
VERSION:2.0
METHOD:PUBLISH
BEGIN:VEVENT
DTSTART:20250816T140000Z
DTEND:20250816T210000Z
LOCATION:Bennett, CO 80102
TRANSP: OPAQUE
SEQUENCE:0
UID:
DTSTAMP:20260420T190847Z
SUMMARY:Over Stocked & Over Stacked Live Auction
DESCRIPTION:Over Stocked & Over Stacked Live Auction Bigfoot Auctions Inc. 
UID:1776733727
STREET-ADDRESS:See website
POSTAL-CODE:80102
LOCALITY:Bennett
REGION:ABBREV=CO
COUNTRY:ABBREV=US;ABBREV=USA:United States
URL;TYPE=Event Listing:https://estatesales.org/estate-sales/co/bennett/80102/over-stocked-over-stacked-live-2395568
PRIORITY:1
CLASS:PUBLIC
SEQUENCE:0
STATUS:CONFIRMED
TRANSP:OPAQUE
END:VEVENT
END:VCALENDAR
