BEGIN:VCALENDAR
VERSION:2.0
METHOD:PUBLISH
BEGIN:VEVENT
DTSTART:20240816T130000Z
DTEND:20240818T180000Z
LOCATION:Deltona, FL 32725
TRANSP: OPAQUE
SEQUENCE:0
UID:
DTSTAMP:20260423T132547Z
SUMMARY:EMERALD will be in Deltona
DESCRIPTION:EMERALD will be in Deltona Estate Sales by Emerald 
UID:1776972347
STREET-ADDRESS:See website
POSTAL-CODE:32725
LOCALITY:Deltona
REGION:ABBREV=FL
COUNTRY:ABBREV=US;ABBREV=USA:United States
URL;TYPE=Event Listing:https://estatesales.org/estate-sales/fl/deltona/32725/emerald-will-be-in-deltona-2329900
PRIORITY:1
CLASS:PUBLIC
SEQUENCE:0
STATUS:CONFIRMED
TRANSP:OPAQUE
END:VEVENT
END:VCALENDAR
