BEGIN:VCALENDAR
VERSION:2.0
METHOD:PUBLISH
BEGIN:VEVENT
DTSTART:20240816T130000Z
DTEND:20240817T200000Z
LOCATION:Tampa, FL 33617
TRANSP: OPAQUE
SEQUENCE:0
UID:
DTSTAMP:20260421T113750Z
SUMMARY:V Patton Estates Temple Terrace MARK MARTIN Collectibles, ROOSTERS & Twin Bed Set & More
DESCRIPTION:V Patton Estates Temple Terrace MARK MARTIN Collectibles, ROOSTERS & Twin Bed Set & More V Patton Estate Sale Options 
UID:1776793070
STREET-ADDRESS:See website
POSTAL-CODE:33617
LOCALITY:Tampa
REGION:ABBREV=FL
COUNTRY:ABBREV=US;ABBREV=USA:United States
URL;TYPE=Event Listing:https://estatesales.org/estate-sales/fl/tampa/33617/v-patton-estates-temple-terrace-2332968
PRIORITY:1
CLASS:PUBLIC
SEQUENCE:0
STATUS:CONFIRMED
TRANSP:OPAQUE
END:VEVENT
END:VCALENDAR
