BEGIN:VCALENDAR
VERSION:2.0
METHOD:PUBLISH
BEGIN:VEVENT
DTSTART:20240816T140000Z
DTEND:20240818T190000Z
LOCATION:Corona, CA 92879
TRANSP: OPAQUE
SEQUENCE:0
UID:
DTSTAMP:20260419T223641Z
SUMMARY:Home Decorators Dream Sale in Corona! Staging Company closed their doors, and their inventory is up for sale!
DESCRIPTION:Home Decorators Dream Sale in Corona! Staging Company closed their doors, and their inventory is up for sale! Estate Sales by Dee 
UID:1776659801
STREET-ADDRESS:See website
POSTAL-CODE:92879
LOCALITY:Corona
REGION:ABBREV=CA
COUNTRY:ABBREV=US;ABBREV=USA:United States
URL;TYPE=Event Listing:https://estatesales.org/estate-sales/ca/corona/92879/home-decorators-dream-sale-in-2333497
PRIORITY:1
CLASS:PUBLIC
SEQUENCE:0
STATUS:CONFIRMED
TRANSP:OPAQUE
END:VEVENT
END:VCALENDAR
